BEGIN:VCALENDAR
VERSION:2.0
PRODID:-//AudioTheme 3.0.1
BEGIN:VEVENT
UID:urn:uuid:5b69d54a-1e12-4320-b162-9cd6cd3a74c1
URL:https://flyyetifly.com/gigs/crowleys-bar/
DTSTART;TZID=GMT:20240905T200000
SUMMARY:Crowley's Bar
LOCATION:Crowley's Bar\, 26 Henry Street\, Kenmare\, Co. Kerry\, Ireland\, V93 Y152
END:VEVENT
END:VCALENDAR
