BEGIN:VCALENDAR
VERSION:2.0
PRODID:-//AudioTheme 3.0.1
BEGIN:VEVENT
UID:urn:uuid:d6c060ce-2ab3-454f-a55c-5c3fdc22e64c
URL:https://flyyetifly.com/gigs/lamb-yard-festival/
DTSTART;TZID=GMT:20240826T190000
SUMMARY:Lamb Yard Festival
LOCATION:Lamb Yard\, Lamb Yard\, Bradford on Avon\, Wiltshire\, United Kingdom\, BA15 1FG
END:VEVENT
END:VCALENDAR
