BEGIN:VCALENDAR
VERSION:2.0
PRODID:-//AudioTheme 3.0.1
BEGIN:VEVENT
UID:urn:uuid:a6cdba26-a4c6-4287-bb1a-e010a8430da5
URL:https://flyyetifly.com/gigs/the-three-daggers/
DTSTART;TZID=GMT:20240829T200000
SUMMARY:The Three Daggers
LOCATION:Three Daggers\, 47 Westbury Road\, Edington\,\, Westbury\, Wiltshire\, BA13 4PG
END:VEVENT
END:VCALENDAR
