BEGIN:VCALENDAR
VERSION:2.0
PRODID:-//AudioTheme 3.0.1
BEGIN:VEVENT
UID:urn:uuid:30c8ab7a-d55e-4957-a8b5-5fea24b2b77b
URL:https://flyyetifly.com/gigs/yha-treyarnon-bay-sunset-session/
DTSTART;TZID=GMT:20240825T173000
SUMMARY:YHA Treyarnon Bay ~ Sunset Session
LOCATION:YHA Treyarnon Bay\, Treyarnon Bay\, Padstow\, Cornwall\, United Kingdom
END:VEVENT
END:VCALENDAR
